BEGIN:VCALENDAR
VERSION:2.0
PRODID:-//eventon.com NONSGML v1.0//EN
BEGIN:VEVENT
UID:69e741630a3bd
DTSTAMP:20260421T092035
DTSTART:20230202
DTEND:20230203
TZID:Europe/Paris
LOCATION:Den Atelier\,  Luxembourg 
SUMMARY:DOSSAVELI TOUR
DESCRIPTION: \nhttp://spktaqlr.com/events/dossaveli-tour-5
URL:http://spktaqlr.com/events/dossaveli-tour-5
END:VEVENT
END:VCALENDAR